Workbook
Name Laender: [1]Länder!$A$7:$F$229

Sheet Reisekosten
A1: Reisekostenabrechnung für Arbeitnehmer
A3: Nr.
A4: Kostenstelle
G6: Büro Stuttgart-Vaihingen / Möhringen Tel. 0711 – 97 67 3-0 | Fax 0711 – 97 67 3-33 office@etl-stuttgart.de
G9: Büro Stuttgart-Sillenbuch Tel. 0711 – 16 22 07-0 | Fax 0711 – 16 22 07-29 mail@etl-stuttgart.de
A12: Name
A13: Reiseziel/-anlass
A14: Land | C14: 1 | E14: =VLOOKUP(C14,Länder!A11:E238,2) -> Deutschland
A15: Reisebeginn: | B15: Datum | C15: 44198 | E15: Reiseende: | F15: Datum | I15: 44198
B16: Uhrzeit | C16: 0.33333333 | F16: Uhrzeit | I16: 0.70833333
A18: 1. Fahrtkosten | I18: Bruttobetrag | K18: % | L18: Vorsteuer
A19: pauschales km-Geld | E19: km x | F19: 0.3 | I19: =D19*F19 -> 0
A20: Bahn | E20: Beleg-Nr. | I20: 0 | K20: 0 | L20: =I20/(K20+100)*K20 -> 0
E21: Beleg-Nr. | I21: 0 | K21: 0 | L21: =I21/(K21+100)*K21 -> 0
E22: Beleg-Nr. | I22: 0 | K22: 0 | L22: =I22/(K22+100)*K22 -> 0
A23: Mietwagen | E23: Beleg-Nr. | I23: 0 | K23: 0 | L23: =I23/(K23+100)*K23 -> 0
I24: =SUM(I19:I23) -> 0 | L24: =SUM(L20:L23) -> 0
A26: 2. Übernachtungskosten
A27: Anzahl der Übernachtungen: | D27: x Pauschale | F27: =IF(C28="ja",8,VLOOKUP(C14,Länder!A11:E238,5)) -> 20
A28: Übernachtung auf einem Fahrzeug (ja/nein): | C28: nein
A29: Übernachtungskosten lt. Hotelrechnung (Brutto) | I29: 0 | K29: 0 | L29: =I29/(K29+100)*K29 -> 0
A30: Frühstück lt. Hotelrechnung (Brutto) | I30: 0 | K30: 0 | L30: =I30/(K30+100)*K30 -> 0
A31: Abziehbare weitere Kosten auf der Hotelrechnung (Brutto) | I31: 0 | K31: 0 | L31: =I31/(K31+100)*K31 -> 0
A32: Nicht abziehbare übrige Kosten [Minibar, Hotelbar, TV etc.] (Brutto) | I32: 0 | K32: 0 | L32: =I32/(K32+100)*K32 -> 0
B33: =+IF(I29<C27*F27,"Übernachtungspauschalen sind günstiger und wurden angesetzt!","") | I33: =SUM(I30:I32)+MAX(I29,C27*F27) -> 0 | L33: =SUM(L29:L32) -> 0
A35: 3. Verpflegungsmehraufwendungen
A36: Dienstreisetag | B36: Anzahl Verpflegungs-pauschalen | C36: Anzahl Kürzungen
C38: Frühstück | D38: Mittagessen | E38: Abendessen
A39: eintägig über 8 Std. | B39: 0 | C39: 0 | D39: 0 | E39: 0 | F39: =+MAX(0,B39*B$51-C39*B$50*0.2-D39*B$50*0.4-E39*B$50*0.4) -> 0
A41: Anreisetag | B41: 0 | C41: 0 | D41: 0 | E41: 0 | F41: =+MAX(0,B41*B$51-C41*B$50*0.2-D41*B$50*0.4-E41*B$50*0.4) -> 0
A42: Abreisetag | B42: 0 | C42: 0 | D42: 0 | E42: 0 | F42: =+MAX(0,B42*B$51-C42*B$50*0.2-D42*B$50*0.4-E42*B$50*0.4) -> 0
A44: voller Abwesenheitstag | B44: 0 | C44: 0 | D44: 0 | E44: 0 | F44: =+MAX(0,B44*B$50-C44*B$50*0.2-D44*B$50*0.4-E44*B$50*0.4) -> 0
A45: voller Abwesenheitstag | B45: 0 | C45: 0 | D45: 0 | E45: 0 | F45: =+MAX(0,B45*B$50-C45*B$50*0.2-D45*B$50*0.4-E45*B$50*0.4) -> 0
A46: voller Abwesenheitstag | B46: 0 | C46: 0 | D46: 0 | E46: 0 | F46: =+MAX(0,B46*B$50-C46*B$50*0.2-D46*B$50*0.4-E46*B$50*0.4) -> 0
A48: individuelle Eingaben | F48: 0
A49: Verpflegungspauschalen nach Kürzung | I49: =MAX(F48,SUM(F39:F47)) -> 0
A50: 24 Std. Abwesenheit: | B50: =VLOOKUP(C14,Länder!A11:E238,3) -> 28
A51: Über 8 Std. Abwesenheit: | B51: =VLOOKUP(C14,Länder!A11:E238,4) -> 14
A53: Tatsächliche Verpflegungskosten mit ordnungsgemäßen Rechnungen nachgewiesen
A54: Frühstück | E54: Beleg-Nr. | I54: 0 | K54: 0 | L54: =I54/(K54+100)*K54 -> 0
...

Sheet Verpflegungsmehraufwand
A1: Reisekostenabrechnung
A4: DATUM | B4: Reisebeginn | C4: Reiseende | D4: Reiseanlass | E4: Ort | F4: Verpflegungsmehraufwand
F5: Stunden | G5: EUR
A55: Bei eine kalendertäglichen Abwesenheit von 24 Stunden = € 24 Verpflegungsmehraufwand
A56: Bei eine kalendertäglichen Abwesenheit von mehr als 8 Stunden = € 12 Verpflegungsmehraufwand
A57: bei Übernachtung für den An- und Abreisetag = € 12 Verpflgungsmehraufwand

Sheet Länder
A1: Übersicht über die seit 1. Januar 2021 geltenden Pauschbeträge für Verpflegungsmehraufwendungen und Übernachtungskosten
A5: Pauschbeträge für Verpflegungsmehraufwendungen bei einer Abwesenheitsdauer je Kalendertag von
A7: Länder-code | B7: Land | D7: weniger als 24, | E7: Pauschbetrag | G7: Sachbezug Arbeitnehmer
C8: mindestens | D8: aber mindestens | E8: für Übernach-
C9: 24 Stunden | D9: 8 Stunden | E9: tungskosten | H9: Frühstück | I9: Mittagessen | J9: Abendessen | K9: Gesamt
D10: oder An-/Abreisetag | G10: 2009 | H10: 1.53 | I10: 2.73 | J10: 2.73 | K10: =SUM(H10:J10) -> 6.99
A11: 1 | B11: Deutschland | C11: 28 | D11: 14 | E11: 20 | G11: 2010 | H11: 1.57 | I11: 2.8 | J11: 2.8 | K11: =SUM(H11:J11) -> 7.17
A12: =A11+1 -> 2 | B12: Afghanistan | C12: 30 | D12: 20 | E12: 95 | G12: 2011 | H12: 1.57 | I12: 2.83 | J12: 2.83 | K12: =SUM(H12:J12) -> 7.23
A13: =A12+1 -> 3 | B13: Ägypten | C13: 41 | D13: 28 | E13: 125 | G13: 2012 | H13: 1.57 | I13: 2.87 | J13: 2.87 | K13: =SUM(H13:J13) -> 7.31
A14: =A13+1 -> 4 | B14: Äthiopien | C14: 39 | D14: 26 | E14: 130 | G14: 2013 | H14: 1.6 | I14: 2.93 | J14: 2.93 | K14: =SUM(H14:J14) -> 7.46
A15: =A14+1 -> 5 | B15: Äquatorialguinea | C15: 36 | D15: 24 | E15: 166 | G15: 2014 | H15: 1.63 | I15: 3 | J15: 3 | K15: =SUM(H15:J15) -> 7.63
A16: =A15+1 -> 6 | B16: Albanien | C16: 27 | D16: 18 | E16: 112 | G16: 2015 | H16: 1.63 | I16: 3 | J16: 3 | K16: =SUM(H16:J16) -> 7.63
A17: =A16+1 -> 7 | B17: Algerien | C17: 51 | D17: 34 | E17: 173 | G17: 2016 | H17: 1.67 | I17: 3.1 | J17: 3.1 | K17: =SUM(H17:J17) -> 7.87
A18: =A17+1 -> 8 | B18: Andorra | C18: 41 | D18: 28 | E18: 91 | G18: 2017 | H18: 1.7 | I18: 3.17 | J18: 3.17 | K18: =SUM(H18:J18) -> 8.04
A19: =A18+1 -> 9 | B19: Angola | C19: 52 | D19: 35 | E19: 299 | G19: 2018 | H19: 1.73 | I19: 3.23 | J19: 3.23 | K19: =SUM(H19:J19) -> 8.19
A20: =A19+1 -> 10 | B20: Argentinien | C20: 35 | D20: 24 | E20: 113 | G20: 2019 | H20: 1.77 | I20: 3.3 | J20: 3.3 | K20: =SUM(H20:J20) -> 8.37
A21: =A20+1 -> 11 | B21: Armenien | C21: 24 | D21: 16 | E21: 59 | G21: 2020 | H21: 1.8 | I21: 3.4 | J21: 3.4 | K21: =SUM(H21:J21) -> 8.6
A22: =A21+1 -> 12 | B22: Aserbaidschan | C22: 30 | D22: 20 | E22: 72 | G22: 2021 | H22: 1.83 | I22: 3.47 | J22: 3.47 | K22: =SUM(H22:J22) -> 8.77
A23: =A22+1 -> 13 | B23: Australien | C23: 51 | D23: 34 | E23: 158
A24: =A23+1 -> 14 | B24: – Canberra | C24: 51 | D24: 34 | E24: 158
A25: =A24+1 -> 15 | B25: – Sydney | C25: 68 | D25: 45 | E25: 184
A26: =A25+1 -> 16 | B26: Bahrain | C26: 45 | D26: 30 | E26: 180
A27: =A26+1 -> 17 | B27: Bangladesch | C27: 50 | D27: 33 | E27: 165
A28: =A27+1 -> 18 | B28: Barbados | C28: 52 | D28: 35 | E28: 165
A29: =A28+1 -> 19 | B29: Belgien | C29: 42 | D29: 28 | E29: 135
A30: =A29+1 -> 20 | B30: Benin | C30: 52 | D30: 35 | E30: 115
A31: =A30+1 -> 21 | B31: Bolivien | C31: 30 | D31: 20 | E31: 93
A32: =A31+1 -> 22 | B32: Bosnien und Herzegowina | C32: 23 | D32: 16 | E32: 75
A33: =A32+1 -> 23 | B33: Botsuana | C33: 46 | D33: 31 | E33: 176
A34: =A33+1 -> 24 | B34: Brasilien | C34: 51 | D34: 34 | E34: 84
... A238: =A237+1 -> 228 | B238: Zypern | C238: 45 | D238: 30 | E238: 116
